Workbook

Sheet 表格 B
AJ1: 2025 | AK1: =AJ1+1 -> 2026 | AL1: =RIGHT(AJ1,2) -> 25 | AM1: =RIGHT(AK1,2) -> 26 | AN1: =AL1&AM1 -> 2526 | AO1: =AL1&"/"&AM1 -> 25/26 | AP1: =AJ1&"-"&AK1 -> 2025-2026
B2: 表格 B | C2: ="香港青年協會 《有心計劃》"&$AP$1 -> 香港青年協會 《有心計劃》2025-2026 | M2: 數據統計（自動） | X2: 有效義工時數 | Y2: ="有效申請數量 ( 共 "&SUM(Y3:AB3)&" 份 )" -> 有效申請數量 ( 共 0 份 ) | AC2: 無效申請 | AF2: =AF8&J7&" "&RIGHT(E7,4)&" "&D8&" B紀念品"&" "&X3&" hrs "&SUM(Y3:AB3)&" 份" -> Sxxx 2526 B紀念品 0 hrs 0 份
C3: 《我係義工．由心出發》「20小時嘉許計劃」 | X3: =SUMIF(大表[有效 / 無效],"有效",大表[例：108]) -> 0 | Y3: =SUMIF(大表[有效 / 無效],"有效",大表[欄1] ) -> 0 | Z3: =SUMIF(大表[有效 / 無效],"有效",大表[欄2] ) -> 0 | AA3: =SUMIF(大表[有效 / 無效],"有效",大表[欄3] ) -> 0 | AB3: =SUMIF(大表[有效 / 無效],"有效",大表[1] ) -> 0 | AC3: =COUNTIF(大表[有效 / 無效],"無效申請") -> 0 | AF3: Version | AG3: 45443
C4: 紀念品申領表格 | AF4: =HYPERLINK("#"&ADDRESS(ROW(大表[[#Headers],[申領類別]])+MIN(大表[數數]),COLUMN(大表[[#Headers],[申領類別]]))&":"&ADDRESS(ROW(大表[[#Headers],[申領類別]])+MAX(大表[數數]),COLUMN(大表[[#Headers],[1]])),"Select Data") -> Select Data
W5: 舉例：某同學本學年的義工時數為 108 小時，可換領 100 小時類別的紀念品一份 或 20 小時類別的紀念品一份。 收到申請後如有關紀念品已換罄，本會將通知 貴方另作他選。 | X5: " | Y5: ● 每年度只可換領紀念品一份 ● 在所選紀念品的欄位輸入「1」
AF6: =COUNTIF(大表[名+時數出現次數],"<>0")-SUMIF(大表[名+時數出現次數],1)&" duplicated" -> 0 duplicated
C7: 《有心學校》編號： | E7: =" / "&$AN$1 -> / 2526 | AF7: =TODAY() -> 46322
C8: 學校名稱： | Y8: 郵票一版 | Z8: 卡片夾 | AA8: 麥當勞 已改為 【香港KFC 肯德 基】 十元 禮券 | AB8: 藍色A4文件夾 | AC8: 紀念品 參考圖片 請參閱 | AF8: ="S"&IFERROR(TEXT(VALUE(SUBSTITUTE(SUBSTITUTE(UPPER(D7)," ",""),"S","")),"000"),"xxx") -> Sxxx
C9: 負責老師/社工姓名：
C10: 負責人職銜：
C11: 日 期： | AC11: 有心學校 資料套
C13: 交表方式： | D13: 請將本填妥之 Excel 檔電郵至 | E13: spot@hkfyg.org.hk
C14: 交表期限： | D14: =$AK$1&" 年 6 月 1 日 至 10 月 31 日 前" -> 2026 年 6 月 1 日 至 10 月 31 日 前 | F14: ( 數量有限，換完即止 ) | M14: 序列 | W14: 學生姓名 | X14: =AO1&" 學年"&CHAR(10)&"義工時數" -> 25/26 學年 義工時數 | Y14: 各項紀念品之「所需換領時數」 | AC14: 資料驗證 （自動）
C15: 申請日程： | D15: 預計兩星期內獲電郵回覆，獲通知後可派員到鰂魚涌領取 | Y15: 400 | Z15: 250 | AA15: 150 | AB15: 20
M16: 序 | N16: 數數 | O16: 申領類別 | P16: 日期 | Q16: 負責人 | R16: 職銜 | S16: 名+時數出現次數 | T16: 編號 | U16: 年號 | V16: 校名 | W16: 舉例：陳大文 | X16: 例：108 | Y16: 欄1 | Z16: 欄2 | AA16: 欄3 | AB16: 1 | AC16: 有效 / 無效 | AD16: 備用1 | AE16: 備用2 | AF16: 備用3 | AG16: 備用4 | AH16: 備用5 | AI16: 名+時數
M17: 1 | N17: =IF(大表[[#This Row],[有效 / 無效]]="有效",大表[[#This Row],[序]],"") | O17: ="紀念品" -> 紀念品 | P17: =AF$7 -> 46322 | Q17: =$D$9 -> 0 | R17: =$D$10 -> 0 | S17: =IF(COUNTA(大表[[#This Row],[舉例：陳大文]:[例：108]])=2,COUNTIF(大表[名+時數],大表[[#This Row],[名+時數]]),0) -> 0 | T17: =$AF$8 -> Sxxx | U17: =RIGHT($E$7,4) -> 2526 | V17: =CLEAN(TRIM($D$8)) | AC17: =IF(AND(大表[[#This Row],[舉例：陳大文]]="",大表[[#This Row],[例：108]]<>""),"無效申請",IF(SUM(大表[[#This Row],[欄1]:[1]])>1,"無效申請", IF(大表[[#This Row],[例：108]]- SUMPRODUCT($Y$15:$AB$15,大表[[#This Row],[欄1]:[1]]) <0,"無效申請", IF(大表[[#This Row],[例：108]]- SUMPRODUCT($Y$15:$AB$15,大表[[#This Row],[欄1]:[1]]) =大表[[#This Row],[例：108]],"","有效")))) | AI17: =TRIM(CLEAN(大表[[#This Row],[舉例：陳大文]]))&大表[[#This Row],[例：108]]
M18: 2 | N18: =IF(大表[[#This Row],[有效 / 無效]]="有效",大表[[#This Row],[序]],"") | O18: ="紀念品" -> 紀念品 | P18: =AF$7 -> 46322 | Q18: =$D$9 -> 0 | R18: =$D$10 -> 0 | S18: =IF(COUNTA(大表[[#This Row],[舉例：陳大文]:[例：108]])=2,COUNTIF(大表[名+時數],大表[[#This Row],[名+時數]]),0) -> 0 | T18: =$AF$8 -> Sxxx | U18: =RIGHT($E$7,4) -> 2526 | V18: =CLEAN(TRIM($D$8)) | AC18: =IF(AND(大表[[#This Row],[舉例：陳大文]]="",大表[[#This Row],[例：108]]<>""),"無效申請",IF(SUM(大表[[#This Row],[欄1]:[1]])>1,"無效申請", IF(大表[[#This Row],[例：108]]- SUMPRODUCT($Y$15:$AB$15,大表[[#This Row],[欄1]:[1]]) <0,"無效申請", IF(大表[[#This Row],[例：108]]- SUMPRODUCT($Y$15:$AB$15,大表[[#This Row],[欄1]:[1]]) =大表[[#This Row],[例：108]],"","有效")))) | AI18: =TRIM(CLEAN(大表[[#This Row],[舉例：陳大文]]))&大表[[#This Row],[例：108]]
M19: 3 | N19: =IF(大表[[#This Row],[有效 / 無效]]="有效",大表[[#This Row],[序]],"") | O19: ="紀念品" -> 紀念品 | P19: =AF$7 -> 46322 | Q19: =$D$9 -> 0 | R19: =$D$10 -> 0 | S19: =IF(COUNTA(大表[[#This Row],[舉例：陳大文]:[例：108]])=2,COUNTIF(大表[名+時數],大表[[#This Row],[名+時數]]),0) -> 0 | T19: =$AF$8 -> Sxxx | U19: =RIGHT($E$7,4) -> 2526 | V19: =CLEAN(TRIM($D$8)) | AC19: =IF(AND(大表[[#This Row],[舉例：陳大文]]="",大表[[#This Row],[例：108]]<>""),"無效申請",IF(SUM(大表[[#This Row],[欄1]:[1]])>1,"無效申請", IF(大表[[#This Row],[例：108]]- SUMPRODUCT($Y$15:$AB$15,大表[[#This Row],[欄1]:[1]]) <0,"無效申請", IF(大表[[#This Row],[例：108]]- SUMPRODUCT($Y$15:$AB$15,大表[[#This Row],[欄1]:[1]]) =大表[[#This Row],[例：108]],"","有效")))) | AI19: =TRIM(CLEAN(大表[[#This Row],[舉例：陳大文]]))&大表[[#This Row],[例：108]]
M20: 4 | N20: =IF(大表[[#This Row],[有效 / 無效]]="有效",大表[[#This Row],[序]],"") | O20: ="紀念品" -> 紀念品 | P20: =AF$7 -> 46322 | Q20: =$D$9 -> 0 | R20: =$D$10 -> 0 | S20: =IF(COUNTA(大表[[#This Row],[舉例：陳大文]:[例：108]])=2,COUNTIF(大表[名+時數],大表[[#This Row],[名+時數]]),0) -> 0 | T20: =$AF$8 -> Sxxx | U20: =RIGHT($E$7,4) -> 2526 | V20: =CLEAN(TRIM($D$8)) | AC20: =IF(AND(大表[[#This Row],[舉例：陳大文]]="",大表[[#This Row],[例：108]]<>""),"無效申請",IF(SUM(大表[[#This Row],[欄1]:[1]])>1,"無效申請", IF(大表[[#This Row],[例：108]]- SUMPRODUCT($Y$15:$AB$15,大表[[#This Row],[欄1]:[1]]) <0,"無效申請", IF(大表[[#This Row],[例：108]]- SUMPRODUCT($Y$15:$AB$15,大表[[#This Row],[欄1]:[1]]) =大表[[#This Row],[例：108]],"","有效")))) | AI20: =TRIM(CLEAN(大表[[#This Row],[舉例：陳大文]]))&大表[[#This Row],[例：108]]
M21: 5 | N21: =IF(大表[[#This Row],[有效 / 無效]]="有效",大表[[#This Row],[序]],"") | O21: ="紀念品" -> 紀念品 | P21: =AF$7 -> 46322 | Q21: =$D$9 -> 0 | R21: =$D$10 -> 0 | S21: =IF(COUNTA(大表[[#This Row],[舉例：陳大文]:[例：108]])=2,COUNTIF(大表[名+時數],大表[[#This Row],[名+時數]]),0) -> 0 | T21: =$AF$8 -> Sxxx | U21: =RIGHT($E$7,4) -> 2526 | V21: =CLEAN(TRIM($D$8)) | AC21: =IF(AND(大表[[#This Row],[舉例：陳大文]]="",大表[[#This Row],[例：108]]<>""),"無效申請",IF(SUM(大表[[#This Row],[欄1]:[1]])>1,"無效申請", IF(大表[[#This Row],[例：108]]- SUMPRODUCT($Y$15:$AB$15,大表[[#This Row],[欄1]:[1]]) <0,"無效申請", IF(大表[[#This Row],[例：108]]- SUMPRODUCT($Y$15:$AB$15,大表[[#This Row],[欄1]:[1]]) =大表[[#This Row],[例：108]],"","有效")))) | AI21: =TRIM(CLEAN(大表[[#This Row],[舉例：陳大文]]))&大表[[#This Row],[例：108]]
M22: 6 | N22: =IF(大表[[#This Row],[有效 / 無效]]="有效",大表[[#This Row],[序]],"") | O22: ="紀念品" -> 紀念品 | P22: =AF$7 -> 46322 | Q22: =$D$9 -> 0 | R22: =$D$10 -> 0 | S22: =IF(COUNTA(大表[[#This Row],[舉例：陳大文]:[例：108]])=2,COUNTIF(大表[名+時數],大表[[#This Row],[名+時數]]),0) -> 0 | T22: =$AF$8 -> Sxxx | U22: =RIGHT($E$7,4) -> 2526 | V22: =CLEAN(TRIM($D$8)) | AC22: =IF(AND(大表[[#This Row],[舉例：陳大文]]="",大表[[#This Row],[例：108]]<>""),"無效申請",IF(SUM(大表[[#This Row],[欄1]:[1]])>1,"無效申請", IF(大表[[#This Row],[例：108]]- SUMPRODUCT($Y$15:$AB$15,大表[[#This Row],[欄1]:[1]]) <0,"無效申請", IF(大表[[#This Row],[例：108]]- SUMPRODUCT($Y$15:$AB$15,大表[[#This Row],[欄1]:[1]]) =大表[[#This Row],[例：108]],"","有效")))) | AI22: =TRIM(CLEAN(大表[[#This Row],[舉例：陳大文]]))&大表[[#This Row],[例：108]]
M23: 7 | N23: =IF(大表[[#This Row],[有效 / 無效]]="有效",大表[[#This Row],[序]],"") | O23: ="紀念品" -> 紀念品 | P23: =AF$7 -> 46322 | Q23: =$D$9 -> 0 | R23: =$D$10 -> 0 | S23: =IF(COUNTA(大表[[#This Row],[舉例：陳大文]:[例：108]])=2,COUNTIF(大表[名+時數],大表[[#This Row],[名+時數]]),0) -> 0 | T23: =$AF$8 -> Sxxx | U23: =RIGHT($E$7,4) -> 2526 | V23: =CLEAN(TRIM($D$8)) | AC23: =IF(AND(大表[[#This Row],[舉例：陳大文]]="",大表[[#This Row],[例：108]]<>""),"無效申請",IF(SUM(大表[[#This Row],[欄1]:[1]])>1,"無效申請", IF(大表[[#This Row],[例：108]]- SUMPRODUCT($Y$15:$AB$15,大表[[#This Row],[欄1]:[1]]) <0,"無效申請", IF(大表[[#This Row],[例：108]]- SUMPRODUCT($Y$15:$AB$15,大表[[#This Row],[欄1]:[1]]) =大表[[#This Row],[例：108]],"","有效")))) | AI23: =TRIM(CLEAN(大表[[#This Row],[舉例：陳大文]]))&大表[[#This Row],[例：108]]
M24: 8 | N24: =IF(大表[[#This Row],[有效 / 無效]]="有效",大表[[#This Row],[序]],"") | O24: ="紀念品" -> 紀念品 | P24: =AF$7 -> 46322 | Q24: =$D$9 -> 0 | R24: =$D$10 -> 0 | S24: =IF(COUNTA(大表[[#This Row],[舉例：陳大文]:[例：108]])=2,COUNTIF(大表[名+時數],大表[[#This Row],[名+時數]]),0) -> 0 | T24: =$AF$8 -> Sxxx | U24: =RIGHT($E$7,4) -> 2526 | V24: =CLEAN(TRIM($D$8)) | AC24: =IF(AND(大表[[#This Row],[舉例：陳大文]]="",大表[[#This Row],[例：108]]<>""),"無效申請",IF(SUM(大表[[#This Row],[欄1]:[1]])>1,"無效申請", IF(大表[[#This Row],[例：108]]- SUMPRODUCT($Y$15:$AB$15,大表[[#This Row],[欄1]:[1]]) <0,"無效申請", IF(大表[[#This Row],[例：108]]- SUMPRODUCT($Y$15:$AB$15,大表[[#This Row],[欄1]:[1]]) =大表[[#This Row],[例：108]],"","有效")))) | AI24: =TRIM(CLEAN(大表[[#This Row],[舉例：陳大文]]))&大表[[#This Row],[例：108]]
M25: 9 | N25: =IF(大表[[#This Row],[有效 / 無效]]="有效",大表[[#This Row],[序]],"") | O25: ="紀念品" -> 紀念品 | P25: =AF$7 -> 46322 | Q25: =$D$9 -> 0 | R25: =$D$10 -> 0 | S25: =IF(COUNTA(大表[[#This Row],[舉例：陳大文]:[例：108]])=2,COUNTIF(大表[名+時數],大表[[#This Row],[名+時數]]),0) -> 0 | T25: =$AF$8 -> Sxxx | U25: =RIGHT($E$7,4) -> 2526 | V25: =CLEAN(TRIM($D$8)) | AC25: =IF(AND(大表[[#This Row],[舉例：陳大文]]="",大表[[#This Row],[例：108]]<>""),"無效申請",IF(SUM(大表[[#This Row],[欄1]:[1]])>1,"無效申請", IF(大表[[#This Row],[例：108]]- SUMPRODUCT($Y$15:$AB$15,大表[[#This Row],[欄1]:[1]]) <0,"無效申請", IF(大表[[#This Row],[例：108]]- SUMPRODUCT($Y$15:$AB$15,大表[[#This Row],[欄1]:[1]]) =大表[[#This Row],[例：108]],"","有效")))) | AI25: =TRIM(CLEAN(大表[[#This Row],[舉例：陳大文]]))&大表[[#This Row],[例：108]]
M26: 10 | N26: =IF(大表[[#This Row],[有效 / 無效]]="有效",大表[[#This Row],[序]],"") | O26: ="紀念品" -> 紀念品 | P26: =AF$7 -> 46322 | Q26: =$D$9 -> 0 | R26: =$D$10 -> 0 | S26: =IF(COUNTA(大表[[#This Row],[舉例：陳大文]:[例：108]])=2,COUNTIF(大表[名+時數],大表[[#This Row],[名+時數]]),0) -> 0 | T26: =$AF$8 -> Sxxx | U26: =RIGHT($E$7,4) -> 2526 | V26: =CLEAN(TRIM($D$8)) | AC26: =IF(AND(大表[[#This Row],[舉例：陳大文]]="",大表[[#This Row],[例：108]]<>""),"無效申請",IF(SUM(大表[[#This Row],[欄1]:[1]])>1,"無效申請", IF(大表[[#This Row],[例：108]]- SUMPRODUCT($Y$15:$AB$15,大表[[#This Row],[欄1]:[1]]) <0,"無效申請", IF(大表[[#This Row],[例：108]]- SUMPRODUCT($Y$15:$AB$15,大表[[#This Row],[欄1]:[1]]) =大表[[#This Row],[例：108]],"","有效")))) | AI26: =TRIM(CLEAN(大表[[#This Row],[舉例：陳大文]]))&大表[[#This Row],[例：108]]
M27: 11 | N27: =IF(大表[[#This Row],[有效 / 無效]]="有效",大表[[#This Row],[序]],"") | O27: ="紀念品" -> 紀念品 | P27: =AF$7 -> 46322 | Q27: =$D$9 -> 0 | R27: =$D$10 -> 0 | S27: =IF(COUNTA(大表[[#This Row],[舉例：陳大文]:[例：108]])=2,COUNTIF(大表[名+時數],大表[[#This Row],[名+時數]]),0) -> 0 | T27: =$AF$8 -> Sxxx | U27: =RIGHT($E$7,4) -> 2526 | V27: =CLEAN(TRIM($D$8)) | AC27: =IF(AND(大表[[#This Row],[舉例：陳大文]]="",大表[[#This Row],[例：108]]<>""),"無效申請",IF(SUM(大表[[#This Row],[欄1]:[1]])>1,"無效申請", IF(大表[[#This Row],[例：108]]- SUMPRODUCT($Y$15:$AB$15,大表[[#This Row],[欄1]:[1]]) <0,"無效申請", IF(大表[[#This Row],[例：108]]- SUMPRODUCT($Y$15:$AB$15,大表[[#This Row],[欄1]:[1]]) =大表[[#This Row],[例：108]],"","有效")))) | AI27: =TRIM(CLEAN(大表[[#This Row],[舉例：陳大文]]))&大表[[#This Row],[例：108]]
M28: 12 | N28: =IF(大表[[#This Row],[有效 / 無效]]="有效",大表[[#This Row],[序]],"") | O28: ="紀念品" -> 紀念品 | P28: =AF$7 -> 46322 | Q28: =$D$9 -> 0 | R28: =$D$10 -> 0 | S28: =IF(COUNTA(大表[[#This Row],[舉例：陳大文]:[例：108]])=2,COUNTIF(大表[名+時數],大表[[#This Row],[名+時數]]),0) -> 0 | T28: =$AF$8 -> Sxxx | U28: =RIGHT($E$7,4) -> 2526 | V28: =CLEAN(TRIM($D$8)) | AC28: =IF(AND(大表[[#This Row],[舉例：陳大文]]="",大表[[#This Row],[例：108]]<>""),"無效申請",IF(SUM(大表[[#This Row],[欄1]:[1]])>1,"無效申請", IF(大表[[#This Row],[例：108]]- SUMPRODUCT($Y$15:$AB$15,大表[[#This Row],[欄1]:[1]]) <0,"無效申請", IF(大表[[#This Row],[例：108]]- SUMPRODUCT($Y$15:$AB$15,大表[[#This Row],[欄1]:[1]]) =大表[[#This Row],[例：108]],"","有效")))) | AI28: =TRIM(CLEAN(大表[[#This Row],[舉例：陳大文]]))&大表[[#This Row],[例：108]]
... M1016: 1000 | N1016: =IF(大表[[#This Row],[有效 / 無效]]="有效",大表[[#This Row],[序]],"") | O1016: ="紀念品" -> 紀念品 | P1016: =AF$7 -> 46322 | Q1016: =$D$9 -> 0 | R1016: =$D$10 -> 0 | S1016: =IF(COUNTA(大表[[#This Row],[舉例：陳大文]:[例：108]])=2,COUNTIF(大表[名+時數],大表[[#This Row],[名+時數]]),0) -> 0 | T1016: =$AF$8 -> Sxxx | U1016: =RIGHT($E$7,4) -> 2526 | V1016: =CLEAN(TRIM($D$8)) | AC1016: =IF(AND(大表[[#This Row],[舉例：陳大文]]="",大表[[#This Row],[例：108]]<>""),"無效申請",IF(SUM(大表[[#This Row],[欄1]:[1]])>1,"無效申請", IF(大表[[#This Row],[例：108]]- SUMPRODUCT($Y$15:$AB$15,大表[[#This Row],[欄1]:[1]]) <0,"無效申請", IF(大表[[#This Row],[例：108]]- SUMPRODUCT($Y$15:$AB$15,大表[[#This Row],[欄1]:[1]]) =大表[[#This Row],[例：108]],"","有效")))) | AI1016: =TRIM(CLEAN(大表[[#This Row],[舉例：陳大文]]))&大表[[#This Row],[例：108]]

Sheet 領取通知 (由本會填寫)
A1: ='表格 B'!C2 -> 香港青年協會 《有心計劃》2025-2026
A2: 《我係義工．由心出發》「20小時嘉許計劃」 | H2: =C4 -> Sxxx
B3: =IF($N$5="","紀念品【領取通知】","嘉許狀 及 紀念品【領取通知】") -> 紀念品【領取通知】
B4: 《有心學校》編號： | C4: ='表格 B'!AF8 -> Sxxx | D4: ='表格 B'!E7 -> / 2526
A5: 《有心學校》名稱： | C5: ='表格 B'!D8 -> 0 | M5: 連證書： | O5: 張
A6: 負責人姓名及職銜： | C6: ='表格 B'!D9&" "&'表格 B'!D10
A7: 負責人填表日期： | C7: =TEXT('表格 B'!D11&"","d/m/yyyy")
H8: 【實物圖片】
A9: 領取物品 | E9: 申領總數 | H9: 獲批領取數量 | N9: 取代獲批數量
B10: =IF(F10=0,"","郵票版 ( 每版 A4 有 20 枚郵票 )") | F10: ='表格 B'!$Y$3 -> 0 | G10: 版 | J10: =IF(N10<>"",N10,IF(F10=0,"",F10)) | K10: 個
B11: =IF(F11=0,"","卡片夾") | F11: ='表格 B'!$Z$3 -> 0 | G11: 個 | J11: =IF(N11<>"",N11,IF(F11=0,"",F11)) | K11: 版
B12: =IF(F12=0,"","香港KFC肯德基$10禮券") | F12: ='表格 B'!$AA$3 -> 0 | G12: 張 | J12: =IF(N12<>"",N12,IF(F12=0,"",F12)) | K12: 張
B13: =IF(F13=0,"","藍色A4文件夾") | F13: ='表格 B'!$AB$3 -> 0 | G13: 個 | J13: =IF(N13<>"",N13,IF(F13=0,"",F13)) | K13: 個
B14: =IF($N$5=0,"","「有心學生」嘉許狀") | F14: =$N$5 -> 0 | G14: 張 | J14: =IF(F14=0,"",F14) | K14: 張 | M14: 連：
B15: =IF(F15=0,"","「VNET級別獎章」"&M15) | F15: =N15 -> 0 | G15: 個 | J15: =IF(F15=0,"",F15) | K15: 個 | M15: 【參與獎章】 | O15: 個
B16: =IF(F16=0,"","「VNET級別獎章」"&M16) | F16: =N16 -> 0 | G16: 個 | J16: =IF(F16=0,"",F16) | K16: 個 | M16: 【成長獎章】 | O16: 個
B17: =IF(F17=0,"","「VNET級別獎章」"&M17) | F17: =N17 -> 0 | G17: 個 | J17: =IF(F17=0,"",F17) | K17: 個 | M17: 【投身獎章】 | O17: 個
B18: =IF(F18=0,"","「VNET級別獎章」"&M18) | F18: =N18 -> 0 | G18: 個 | J18: =IF(F18=0,"",F18) | K18: 個 | M18: 【承擔獎章】 | O18: 個
B21: 貴校可派員 由 2026 年 月 日 起 兩星期內 帶同本通知書 | J21: 本會專用 £ Data £ Directory £ Emailed
B22: 領取上述紀念品；請因應數量自備器具運載。
A23: ★ | B23: 領取前一天 請致電 3755-7072 與本會落實領取時間
B25: 領取地點 | H25: 本會印鑑
B26: 鰂魚涌 模範里盡頭 香港青年協會大廈 20 樓
A27: ★ | B27: 【地鐵站 鰂魚涌 C 出口 出後轉右即達】
B28: 星期一至五 ( 10:00 am - 1 pm / 2 pm - 5:30 pm)
F30: 通知日期：
